BEGIN:VCALENDAR
VERSION:2.0
PRODID:-//Jazz-Initiative Eifel e. V.//NONSGML kigkonsult.se iCalcreator 2.41.92//
CALSCALE:GREGORIAN
METHOD:PUBLISH
UID:66306630-6464-4434-b231-353736663361
X-WR-CALNAME:iCagenda
X-WR-CALDESC:Event Management Extension for Joomla!
X-WR-RELCALID:3E26604A-50F4-4449-8B3E-E4F4932D05B5
X-WR-TIMEZONE:UTC
BEGIN:VTIMEZONE
TZID:UTC
END:VTIMEZONE
BEGIN:VEVENT
UID:64336539-3161-4235-a430-303237333039
DTSTAMP:20260419T144125Z
CATEGORIES:Allgemein
CLASS:PUBLIC
DESCRIPTION;ALTREP="CID:<FFFF__=0ABBE548DFE235B58f9e8a93d@coffeebean.com>":
 Kultur (nicht nur in der Eifel) von und mit ambitionierten Jazzern\nDie JA
 ZZUNION e.V. veranstaltet am Samstag\, 21.02.2026 ab 20 Uhr das Livemusik-
 Event »session eleven« und lädt musikinteressiertes Publikum sowie Musiker
  ein\, einen musikalisch kreativen Abend zu erleben bzw. mitzugestalten. E
 ine Kernbesetzung ist vorhanden.Gastgeber ist der Kinopalast Vulkaneifel i
 n 54550 Daun.Zweck des Vereins JAZZUNION e.V. ist die Förderung der Jazzmu
 sik und die kulturelle Jugendhilfe. Dies geschieht vor allem durch Session
 s oder Konzerte von Mitgliedern der JAZZUNION.\nhttps://jazzunion.net · ht
 tps://instagram.com/jazzunionev · © Foto: Hotel Löwenstein
DTSTART:20260221T200000Z
DTEND:20260221T200000Z
GEO:00;0
LOCATION:Kinopalast Vulkaneifel – Leopoldstraße 31\, 54550 Daun
ORGANIZER;CN=:mailto:gm@jazzunion.net
SEQUENCE:1
SUMMARY:SESSION ELEVEN – JAZZ LIVE – 21.02.2026 im Kinopalast Vulkaneifel i
 n 54550 Daun
TRANSP:OPAQUE
URL:https://www.jazzei.de/alle-termine/773-session-eleven-jazz-live-21-02-2
 026-im-kinopalast-vulkaneifel-in-54550-daun/2026-02-21-20-00
END:VEVENT
END:VCALENDAR
