BEGIN:VCALENDAR
VERSION:2.0
PRODID:-//Jazz-Initiative Eifel e. V.//NONSGML kigkonsult.se iCalcreator 2.41.92//
CALSCALE:GREGORIAN
METHOD:PUBLISH
UID:38303838-3832-4762-a537-316131303262
X-WR-CALNAME:iCagenda
X-WR-CALDESC:Event Management Extension for Joomla!
X-WR-RELCALID:3E26604A-50F4-4449-8B3E-E4F4932D05B5
X-WR-TIMEZONE:UTC
BEGIN:VTIMEZONE
TZID:UTC
END:VTIMEZONE
BEGIN:VEVENT
UID:34376236-3439-4635-b234-353535373238
DTSTAMP:20260420T043409Z
CATEGORIES:Allgemein
CLASS:PUBLIC
DESCRIPTION;ALTREP="CID:<FFFF__=0ABBE548DFE235B58f9e8a93d@coffeebean.com>":
 Konzert in der Loretto Kapelle in Clerf.&nbsp\;Erland Coopers Musik ist ei
 ne einzigartige Klanglandschaft\, in der sich klassische Orchestrierung un
 d elektronische Elemente zu einem sinnlichen Ganzen verweben. Begleitet wi
 rd er von einem Streichquartett.\nErland Cooper ist ein schottischer Kompo
 nist\, Produzent und Multiinstrumentalist\, der aus dem kleinen Küstenort 
 Stromness auf den Orkney-Inseln stammt. In seiner Solokarriere veröffentli
 chte er fünf vielbeachtete Studioalben – darunter eine poetische Trilogie\
 , inspiriert von seiner Heimat und den Themen Natur\, Mensch\, Ort und Zei
 t. Mit Musik\, Sprache und filmischer Ästhetik erforscht er Fragen nach Er
 innerung\, Identität und der Bedeutung von Landschaft. Diese Themen vertie
 ft er regelmäßig in interdisziplinären Projekten – durch Kooperationen mit
  KünstlerInnen\, AutorInnen und LyrikerInnen sowie durch Arbeiten in Theat
 er\, Film und Installationskunst.\nInternationale Aufmerksamkeit erregte e
 r mit einem außergewöhnlichen Kunstprojekt: Er vergrub die einzige Kopie d
 es Masterbands seines ersten Klassikalbums an einem geheimen Ort in Schott
 land\, löschte sämtliche digitale Dateien – und hinterließ nur Hinweise fü
 r eine Schatzsuche. Das Band wurde 2024 gefunden\, veröffentlicht – und er
 reichte Platz 1 der offiziellen Klassikalbum-Charts.\n&nbsp\;\nErwachsene:
  28 € | Cube Card: 23 € | &lt\; 26 Jahren: 14 €Reservierung: info@cube521.
 lu | + 352 521 521 |&nbsp\;www.cube521.lu\nFoto © Samuel Davies
DTSTART:20260516T200000Z
DTEND:20260516T220000Z
GEO:00;0
LOCATION:Loretto Kapelle in Clerf
ORGANIZER;CN=:mailto:info@cube521.lu
SEQUENCE:1
SUMMARY:Erland Cooper & String Quartet
TRANSP:OPAQUE
URL:https://www.jazzei.de/termine/666-erland-cooper-string-quartet/2026-05-
 16-20-00
END:VEVENT
END:VCALENDAR
