BEGIN:VCALENDAR
VERSION:2.0
PRODID:-//Jazz-Initiative Eifel e. V.//NONSGML kigkonsult.se iCalcreator 2.41.92//
CALSCALE:GREGORIAN
METHOD:PUBLISH
UID:34653762-6639-4738-b531-333133623032
X-WR-CALNAME:iCagenda
X-WR-CALDESC:Event Management Extension for Joomla!
X-WR-RELCALID:3E26604A-50F4-4449-8B3E-E4F4932D05B5
X-WR-TIMEZONE:UTC
BEGIN:VTIMEZONE
TZID:UTC
END:VTIMEZONE
BEGIN:VEVENT
UID:31383062-3663-4564-b138-666463663635
DTSTAMP:20260420T040941Z
CATEGORIES:Summer-Jazz Festival
CLASS:PUBLIC
DESCRIPTION;ALTREP="CID:<FFFF__=0ABBE548DFE235B58f9e8a93d@coffeebean.com>":
 &nbsp\;\nSummer-Jazz Festival 2026 \nLuxOnions eröffnen das Summer-Jazz Fe
 stival im Bedagarten 2026\nMit fröhlicher Dixielandmusik startet die diesj
 ährige Livemusik-Veranstaltungsreihe im Garten des Bedahauses.\nDie LuxOni
 ons sind mittlerweile eine feste Größe in Bitburg. LuxOnions ist eine luxe
 mburgische Jazzband\, in der Musiker aus mehreren europäischen Ländern spi
 elen: England\, Schweden\, Deutschland und ein&nbsp\; in Luxemburg lebende
 r deutscher Musiker ist auch dabei.\nDie Band hat spielt europäischen Dixi
 eland-Jazz\, wie er in Europa nach dem 2. Weltkrieg\, vor allem in den 50e
 r und 60er Jahren die Menschen begeisterte.\nIn England wurde diese Musik 
 bekannt als “traditional jazz“\, der mit englischen Jazzmusikern wie Ken C
 olyer\, Chris Barber\, Monty Sunshine\, Humphrey Lyttleton\, Mr Acker Bilk
  und vielen anderen die jungen Bands auf dem Kontinent beeinflusste. Das K
 ultstück dieser Epoche war „Ice Cream“\, und das ist es auch heute noch. K
 ein Dixielandkonzert ohne dieses Stück\, das immer wieder von den Zuhörern
  gewünscht wird.\nDie „Onions“ spielen in der klassischen Besetzung und er
 zeugen so den typischen Onionssound.\nZum Repertoire der LuxOnions zählen 
 auch viele Stücke\, die aus dem Mutterland der Jazzmusik stammen\, Klassik
 er geworden sind und aus dem Jazz nicht mehr wegzudenken sind.&nbsp\;\nDas
  Summer Jazz Festival im Bedagarten ist eine Gemeinschaftsveranstaltung de
 r Jazz-Initiative Eifel\, der Kulturgemeinschaft und der Dr.-Hans-Simon-St
 iftung.\nDie LuxOnions spielen am Mittwoch\, 15. Juli 2026 ab 19 Uhr im Be
 dagarten.\nBei ungüstigem Wetter wird im Festsaal des Bedahauses gespielt.
DTSTART:20260715T190000Z
DTEND:20260715T190000Z
GEO:00;0
LOCATION:Bitburg\, Bedagarten
ORGANIZER:
SEQUENCE:1
SUMMARY:Summer-Jazz Festival 2026  LuxOnions eröffnen das Summer-Jazz Festi
 val im Bedagarten
TRANSP:OPAQUE
URL:https://www.jazzei.de/termine/724-summer-jazz-festival-2026-luxonions-e
 roeffnen-das-summer-jazz-festival-im-bedagarten/2026-07-15-19-00
END:VEVENT
END:VCALENDAR
