BEGIN:VCALENDAR
VERSION:2.0
PRODID:-//Jazz-Initiative Eifel e. V.//NONSGML kigkonsult.se iCalcreator 2.41.92//
CALSCALE:GREGORIAN
METHOD:PUBLISH
UID:36363065-6366-4135-b736-326138333538
X-WR-CALNAME:iCagenda
X-WR-CALDESC:Event Management Extension for Joomla!
X-WR-RELCALID:3E26604A-50F4-4449-8B3E-E4F4932D05B5
X-WR-TIMEZONE:UTC
BEGIN:VTIMEZONE
TZID:UTC
END:VTIMEZONE
BEGIN:VEVENT
UID:39383463-3863-4466-b764-616161383738
DTSTAMP:20260420T043146Z
CATEGORIES:Allgemein
CLASS:PUBLIC
DESCRIPTION;ALTREP="CID:<FFFF__=0ABBE548DFE235B58f9e8a93d@coffeebean.com>":
 Die Bankers können auch fulminante Jazzmusik\n&nbsp\;Mit der Bigband Spuer
 keess-Bankers in Concert kommt bekannte und beliebte Swingmusik auf die Bü
 hne des Bedagartens. 1988 von einigen jungen Musikern&nbsp\; der Staatsban
 k&nbsp\; und Staatssparkasse gegründet\, hat sie sich seitdem musikalisch&
 nbsp\; stetig aufwärts bewegt. Heute besteht das Ensemble aus 23 Musikern\
 , die sich der Band und der Musik mit Leib und Seele verschrieben haben. D
 ank der vielen Talente ist ein Orchester entstanden\, das auf hohem musika
 lischen Niveau musiziert.\nDie Bigband&nbsp\; mehr als 400 Konzerte im In-
  und Ausland gespielt und wusste überall zu überzeugen.\nSeit 10 Jahren is
 t die Band am Pfingstwochenende beim Travemünde Jazz Festival dabei und ha
 tte die Ehre\, 2019 und 2023 auf den&nbsp\; Weilburger Schlosskonzerten&nb
 sp\; ein großes Abendkonzert zu geben\,\nGroße Namen der Bigband-Musik\, w
 ie Count Basie\, Buddy Rich und Duke Ellington\, aber auch Themenkonzerte 
 wie Frank Sinatra\, Ella Fitzgerald gehören zum ambitionierte Programm der
  Bankers. Auftritte im Fernsehen gab es ebenfalls.\nBankers in Concert spi
 elen am Mittwoch\, 22. Juli 2026 ab 19 Uhr auf der Bühne im Bedagarten. Be
 i ungünstigem Wetter wird im Festsaal des Hauses Beda gespielt. Der Eintri
 tt ist &nbsp\;frei.\nDas Summer-Jazz Festival 2026 im Bedagarten ist eine 
 Gemeinschaftsveranstaltung der Jazz-Initiative Eifel\, der Kulturgemeinsch
 aft Bitburg und der Dr.-Hanns-Simon-Stiftung.\nFoto: Emile Mentz
DTSTART:20260722T190000Z
DTEND:20260722T190000Z
GEO:00;0
LOCATION:Bitburg\, Bedagarten
ORGANIZER:
SEQUENCE:1
SUMMARY:Summer-Jazz Festival Bitburg  Die Bankers können auch fulminante Ja
 zzmusik
TRANSP:OPAQUE
URL:https://www.jazzei.de/termine/725-summer-jazz-festival-bitburg-die-bank
 ers-koennen-auch-fulminante-jazzmusik/2026-07-22-19-00
END:VEVENT
END:VCALENDAR
