BEGIN:VCALENDAR
VERSION:2.0
PRODID:-//Jazz-Initiative Eifel e. V.//NONSGML kigkonsult.se iCalcreator 2.41.92//
CALSCALE:GREGORIAN
METHOD:PUBLISH
UID:61313764-3031-4537-b335-383863393033
X-WR-CALNAME:iCagenda
X-WR-CALDESC:Event Management Extension for Joomla!
X-WR-RELCALID:3E26604A-50F4-4449-8B3E-E4F4932D05B5
X-WR-TIMEZONE:UTC
BEGIN:VTIMEZONE
TZID:UTC
END:VTIMEZONE
BEGIN:VEVENT
UID:31366435-3439-4332-b636-646538653037
DTSTAMP:20260420T042824Z
CATEGORIES:Summer-Jazz Festival
CLASS:PUBLIC
DESCRIPTION;ALTREP="CID:<FFFF__=0ABBE548DFE235B58f9e8a93d@coffeebean.com>":
 ISKRA spielt Sinti-Swing vom Allerfeinsten\nSie kommen aus Frankreich und 
 haben den Swing im Blut. Sie begeistern mit ihrer Musik\, sprechen Gefühle
  der Anwesenden an und verbreiten gute Laune.&nbsp\; Kurz: Sommergefühl.\n
 Das Abenteuer dieser Künstler begann 1995 mit einigen Musikern\, meist pol
 nischer Herkunft\, die alle von der Zigeunermusik geprägt waren. Mit dem E
 intritt von Musikern aus dem Jazz entwickelte sich das Repertoire von ISKR
 A allmählich in Richtung des von DJANGO REINHARDT initiierten Zigeunerjazz
 . Iskra bietet zwei Programme: Das erste besteht aus einer Mischung aus tr
 aditioneller Zigeunermusik und Zigeunerjazz. Das zweite besteht ausschließ
 lich aus Zigeunerjazz.\nDie fünf Musiker teilen ihre Leidenschaft durch Mu
 sik\, in die jeder seine eigene Persönlichkeit einbringt\, sowohl in der I
 nterpretation als auch in den Improvisationen\, die sich im Laufe der Zeit
  mit der Fantasie der Musiker entwickeln. Iskra ist lebendige Musik\, die 
 Melodien aktualisiert und Sie in ein Universum entführt\, in dem Träume zu
  Freiheit werden.\nISKRA spielt am Mittwoch\, 29. Juli 2026 ab 19 Uhr auf 
 der Bühne im Bedagarten. Bei ungünstigem Wetter wird im Festsaal des Hause
 s Beda gespielt. Der Eintritt ist&nbsp\; frei.\nDas Summer-Jazz Festival 2
 026 im Bedagarten ist eine Gemeinschaftsveranstaltung der Jazz-Initiative 
 Eifel\, der Kulturgemeinschaft Bitburg und der Dr.-Hanns-Simon-Stiftung.\n
 Foto: ISKRA
DTSTART:20260729T190000Z
DTEND:20260729T190000Z
GEO:00;0
LOCATION:Bitburg\, Bedagarten
ORGANIZER:
SEQUENCE:1
SUMMARY:Summer-Jazz Festival Bitburg: ISKRA spielt Sinti-Swing vom Allerfei
 nsten
TRANSP:OPAQUE
URL:https://www.jazzei.de/termine/726-iskra-spielt-sinti-swing-vom-allerfei
 nsten/2026-07-29-19-00
END:VEVENT
END:VCALENDAR
