BEGIN:VCALENDAR
VERSION:2.0
PRODID:-//Jazz-Initiative Eifel e. V.//NONSGML kigkonsult.se iCalcreator 2.41.92//
CALSCALE:GREGORIAN
METHOD:PUBLISH
UID:64356362-3663-4235-a265-396464326437
X-WR-CALNAME:iCagenda
X-WR-CALDESC:Event Management Extension for Joomla!
X-WR-RELCALID:3E26604A-50F4-4449-8B3E-E4F4932D05B5
X-WR-TIMEZONE:UTC
BEGIN:VTIMEZONE
TZID:UTC
END:VTIMEZONE
BEGIN:VEVENT
UID:30613032-6138-4065-b865-336138383566
DTSTAMP:20260420T042125Z
CATEGORIES:Allgemein
CLASS:PUBLIC
DESCRIPTION;ALTREP="CID:<FFFF__=0ABBE548DFE235B58f9e8a93d@coffeebean.com>":
 Exzellenter Jazz mit der Tritone Studio Band\nEine der renommiertesten Ban
 ds aus Luxemburg wird hier ihre Visitenkarte abgeben. Das ist längst überf
 ällig\, denn alle Musiker waren schon mindestens einmal bei uns. Sie spiel
 ten&nbsp\; allerdings überzeugend in anderen Formationen. Nun treten sie v
 ereint auf.\nEigentlich kennen sich die fünf Musiker der Tritone Studio Ba
 nd schon viele Jahre und sind sich in der Vergangenheit immer wieder bei u
 nterschiedlichen Projekten begegnet.\nDoch erst im Jahr 2022 haben sie sic
 h in diesem Format zusammengefunden\, um ihre gesammelten Erfahrungen zu b
 ündeln. Der moderne Jazz ist ihr Metier. &nbsp\;Die einzigartige Verbindun
 g Saxofon und Posaune kreiert einen unverwechselbaren Sound\, getragen vom
  satten Groove der Rhythmusgruppe mit Klavier\, Kontrabass und Schlagzeug.
 \nIn ihrem Repertoire verbinden die Tritones Jazz Standards in allen Forme
 n und Farben. In den Kompositionen von Bandleader George Letellier können 
 die Musiker sich frei entfalten\, mit viel Raum für Interpretation und Imp
 rovisation.\nEs spielen&nbsp\; Georges Majerus – saxophone\, Claude Kauffm
 ann –trombone\, George Letellier – piano\, Romain Boden – double bass und 
 David Hoffmann – drums.\nDie Erwartungen sind hoch\, man darf gespannt sei
 n.\nDie Tritone Studio Band spielt am Mittwoch\, 5. August 2026 ab 19 Uhr 
 auf der Bühne im Bedagarten. Bei ungünstigem Wetter wird im Festsaal des H
 auses Beda gespielt. Der Eintritt ist&nbsp\; frei.\nDas Summer-Jazz Festiv
 al 2026 im Bedagarten ist eine Gemeinschaftsveranstaltung der Jazz-Initiat
 ive Eifel\, der Kulturgemeinschaft Bitburg und der Dr.-Hanns-Simon-Stiftun
 g.\nFoto: Band
DTSTART:20260805T190000Z
DTEND:20260805T190000Z
GEO:00;0
LOCATION:Bitburg\, Bedagarten
ORGANIZER:
SEQUENCE:1
SUMMARY:Summer-Jazz Festival: Exzellenter Jazz mit der Tritone Studio Band
TRANSP:OPAQUE
URL:https://www.jazzei.de/termine/727-exzellenter-jazz-mit-der-tritone-stud
 io-band/2026-08-05-19-00
END:VEVENT
END:VCALENDAR
