BEGIN:VCALENDAR
VERSION:2.0
PRODID:-//Jazz-Initiative Eifel e. V.//NONSGML kigkonsult.se iCalcreator 2.41.92//
CALSCALE:GREGORIAN
METHOD:PUBLISH
UID:38626239-3465-4437-a434-633436323339
X-WR-CALNAME:iCagenda
X-WR-CALDESC:Event Management Extension for Joomla!
X-WR-RELCALID:3E26604A-50F4-4449-8B3E-E4F4932D05B5
X-WR-TIMEZONE:UTC
BEGIN:VTIMEZONE
TZID:UTC
END:VTIMEZONE
BEGIN:VEVENT
UID:64396131-6333-4233-a361-646438363336
DTSTAMP:20260420T042002Z
CATEGORIES:Matinee
CLASS:PUBLIC
DESCRIPTION;ALTREP="CID:<FFFF__=0ABBE548DFE235B58f9e8a93d@coffeebean.com>":
 Harlemnächte zur Matinée im Schloss Weilerbach\n&nbsp\;\nSie ist etwas in 
 Vergessenheit geraten\, die große Blues-Sängerin Bessie Smith. In den 1929
 er Jahren war sie der größte weibliche Star im afroamerikanischen Musikbus
 iness. Ihre Songs\, die von Freiheit\, Liebeskummer\, Stolz und Widerstand
  erzählen\, sind auch über neun Jahrzehnte später noch erstaunlich aktuell
 .\nFür die Jazz-Initiative Eifel Grund genug\, dieser außergewöhnlichen Kü
 nstlerin eine Matinée zu widmen.\nJazz-Sängerin Sandra Beddegenoots und Au
 torin Miriam Spies bringen unter dem Titel 'Harlemnächte' eine Hommage auf
  die Bühne\, die Bessie Smiths Leben und Werk in vielen Facetten erlebbar 
 macht. Biografische Einordnungen\, neu interpretierte Songtexte und atmosp
 härische musikalische Passagen lassen das Publikum eintauchen in die Ära d
 er Harlem Renaissance – jene vibrierende Zeit\, in der afroamerikanische K
 ultur erstmals breite Sichtbarkeit und internationale Anerkennung fand.\nM
 iriam Spies liest aus ihrem gleichnamigen Lyrikband 'Harlemnächte – Bessie
  Smith zum 130. Geburtstag'\, der 2024 im Verlag Brot &amp\; Kunst erschie
 nen ist. Ihre Gedichte sind inspiriert von Bessie Smiths Liedtexten\, über
 tragen deren Themen in eine heutige Sprache und machen spürbar\, wieso die
 se Ausnahmekünstlerin bis heute Künstler*innen inspiriert.\nMusikalisch ge
 tragen wird der Abend von Sandra Beddegenoots\, die mit Stimmkraft und ein
 em 'Jazzy touch' Bessie Smiths Songs neu interpretiert. Beddegenoots ist J
 azzmusikerin\, Sängerin\, Gesangspädagogin und Songwriter. Ihre musikalisc
 he Bandbreite reicht von Singer/Songwriter und Pop über Gospel zum Jazz. M
 it viel Gespür für die Lyrics und Experimentierfreudigkeit verleiht sie je
 dem Song ihre eigene\, zeitgenössische Farbe.\nDiese Matinée findet statt 
 am Sonntag\, 14. Juni 2026\, von 11 – 12.30 Uhr im Festsaal des Schlosses 
 Weilerbach/Bollendorf.\nDas Ticket kostet 14 Euro\, wer anschließend in de
 r Remise auch noch essen möchte (Buffet)\, zahlt 35\,00 Euro. Schüler und 
 Studenten erhalten auf den Eintrittspreis einen Nachlass von 7\,00 Euro.\n
 Karten gibt es im Vorverkauf unter Fon 0170-5917300 und unter schloss.weil
 erbach@bitburg-pruem.de.\nDie Matinee im Schloss&nbsp\; ist eine Gemeinsch
 aftsveranstaltung der Jazz-Initiative Eifel und der Schloss-Weilerbach-Ges
 ellschaft.&nbsp\;\nFoto: Veranstalter
DTSTART:20260614T110000Z
DTEND:20260614T110000Z
GEO:00;0
LOCATION:Festsaal Schloss Weilerbach/Bollendorf
ORGANIZER:
SEQUENCE:1
SUMMARY:Harlemnächte zur Matinée im Schloss Weilerbach
TRANSP:OPAQUE
URL:https://www.jazzei.de/termine/732-harlemnaechte-zur-matinee-im-schloss-
 weilerbach/2026-06-14-11-00
END:VEVENT
END:VCALENDAR
