BEGIN:VCALENDAR
VERSION:2.0
PRODID:-//Jazz-Initiative Eifel e. V.//NONSGML kigkonsult.se iCalcreator 2.41.92//
CALSCALE:GREGORIAN
METHOD:PUBLISH
UID:39366435-6338-4639-a266-633035383163
X-WR-CALNAME:iCagenda
X-WR-CALDESC:Event Management Extension for Joomla!
X-WR-RELCALID:3E26604A-50F4-4449-8B3E-E4F4932D05B5
X-WR-TIMEZONE:UTC
BEGIN:VTIMEZONE
TZID:UTC
END:VTIMEZONE
BEGIN:VEVENT
UID:39396134-3334-4863-b939-376133613666
DTSTAMP:20260420T043439Z
CATEGORIES:Jazzclub im Orpheum (Scheune des Konviktes)
CLASS:PUBLIC
DESCRIPTION;ALTREP="CID:<FFFF__=0ABBE548DFE235B58f9e8a93d@coffeebean.com>":
 Jamsession mit dem JazzVitation-Quartett im Orpheum Prüm\n&nbsp\;\nEs gibt
  viele großartige Jazz-Bands! Und die kommen meist aus den renommierten Mu
 sik-Metropolen – zum Beispiel aus New York\, aus Berlin oder auch aus Köln
 . Dass sich im Quartett „JazzVitation“ Musiker zusammentun\, die alle in d
 er Vulkaneifel leben\, dort auch mal Holz für den Winter hacken\, um dann 
 abends ihre Axt an bekannte und weniger bekannte Titel der Jazz-Literatur 
 zu legen\, ist vor dem Hintergrund etwas ganz besonderes!&nbsp\;Das Repert
 oire ist bunt und vielfältig: Kompositionen von Count Basie oder Miles Dav
 is\, von den Crusaders oder Don Covay – jeder Titel bekommt in der JazzVit
 ation-Bearbeitung ein neues\, eigenständiges Gesicht. Saxophonist Jürgen K
 ill überzeugt dabei mit seinem virtuosen Spiel\, seinem brillantem Ton\; N
 orbert Brenner – mal an der Gitarre\, mal am Keyboard – zieht das Ensemble
  mit stil- und harmoniesicherer Präzision durch die Songs\; Bassist Alfons
  Hardt\, ein alter Hase an seinem Instrument\, sorgt für ein mehr als verl
 ässliches musikalisches Fundament und Schlagzeuger Heiko Thurm\, der verle
 iht dem Ganzen den ansteckenden Groove.\nGanz besonders Besonders ist die 
 Konzertform einer Jamsession.&nbsp\;\nEine&nbsp\;Jamsession&nbsp\;ist&nbsp
 \;ein&nbsp\;zwangloses&nbsp\;Treffen&nbsp\;von&nbsp\;Musikern\,&nbsp\;bei&
 nbsp\;dem&nbsp\;sie&nbsp\;improvisiert&nbsp\;und&nbsp\;gemeinsam&nbsp\;mus
 izieren\,&nbsp\;oft&nbsp\;ohne&nbsp\;vorherige&nbsp\;Absprachen.\nDefiniti
 on&nbsp\;und&nbsp\;Merkmale\nEine&nbsp\;Jamsession&nbsp\;(von&nbsp\;englis
 ch&nbsp\;'jam'&nbsp\;für&nbsp\;'improvisieren'&nbsp\;und&nbsp\;'session'&n
 bsp\;für&nbsp\;'Sitzung')&nbsp\;ist&nbsp\;eine&nbsp\;informelle&nbsp\;Zusa
 mmenkunft&nbsp\;von&nbsp\;Musikern\,&nbsp\;die&nbsp\;typischerweise&nbsp\;
 nicht&nbsp\;in&nbsp\;einer&nbsp\;festen&nbsp\;Band&nbsp\;spielen.&nbsp\;Hi
 erbei&nbsp\;kommen&nbsp\;verschiedene&nbsp\;Musiker&nbsp\;zusammen\,&nbsp\
 ;um&nbsp\;spontan&nbsp\;zu&nbsp\;musizieren&nbsp\;und&nbsp\;ihre&nbsp\;ind
 ividuellen&nbsp\;Stile&nbsp\;einzubringen.&nbsp\;Die&nbsp\;musikalische&nb
 sp\;Grundlage&nbsp\;bilden&nbsp\;häufig&nbsp\;Jazzstandards\,&nbsp\;die&nb
 sp\;den&nbsp\;Teilnehmern&nbsp\;bekannt&nbsp\;sind\,&nbsp\;aber&nbsp\;auch
 &nbsp\;freies&nbsp\;Improvisieren&nbsp\;ist&nbsp\;möglich.&nbsp\;\nHistori
 sche&nbsp\;Bedeutung\nJamsessions&nbsp\;haben&nbsp\;eine&nbsp\;zentrale&nb
 sp\;Rolle&nbsp\;in&nbsp\;der&nbsp\;Entwicklung&nbsp\;des&nbsp\;Jazz&nbsp\;
 gespielt.&nbsp\;In&nbsp\;den&nbsp\;frühen&nbsp\;1940er-Jahren&nbsp\;trafen
 &nbsp\;sich&nbsp\;viele&nbsp\;Jazzmusiker&nbsp\;in&nbsp\;Clubs&nbsp\;wie&n
 bsp\;dem&nbsp\;Minton’s&nbsp\;Playhouse&nbsp\;in&nbsp\;Harlem\,&nbsp\;um&n
 bsp\;nach&nbsp\;regulären&nbsp\;Auftritten&nbsp\;zu&nbsp\;jammen.&nbsp\;Di
 ese&nbsp\;informellen&nbsp\;Treffen&nbsp\;führten&nbsp\;zur&nbsp\;Entstehu
 ng&nbsp\;des&nbsp\;Bebop&nbsp\;und&nbsp\;beeinflussten&nbsp\;die&nbsp\;ges
 amte&nbsp\;moderne&nbsp\;Jazzmusik.&nbsp\;\nZweck&nbsp\;und&nbsp\;Vorteile
 \n\nKreativität&nbsp\;und&nbsp\;Improvisation:&nbsp\;Jamsessions&nbsp\;för
 dern&nbsp\;die&nbsp\;Kreativität\,&nbsp\;da&nbsp\;Musiker&nbsp\;in&nbsp\;e
 iner&nbsp\;offenen&nbsp\;Umgebung&nbsp\;neue&nbsp\;Ideen&nbsp\;und&nbsp\;S
 tile&nbsp\;entwickeln&nbsp\;können.&nbsp\;\nLernumgebung:&nbsp\;Sie&nbsp\;
 bieten&nbsp\;aufstrebenden&nbsp\;Musikern&nbsp\;die&nbsp\;Möglichkeit\,&nb
 sp\;von&nbsp\;erfahreneren&nbsp\;Kollegen&nbsp\;zu&nbsp\;lernen&nbsp\;und&
 nbsp\;ihre&nbsp\;Fähigkeiten&nbsp\;zu&nbsp\;verbessern.&nbsp\;\nNetzwerkbi
 ldung:&nbsp\;Musiker&nbsp\;können&nbsp\;Kontakte&nbsp\;knüpfen&nbsp\;und&n
 bsp\;potenzielle&nbsp\;zukünftige&nbsp\;Projekte&nbsp\;und&nbsp\;Kollabora
 tionen&nbsp\;anbahnen.\n\nAblauf&nbsp\;einer&nbsp\;Jamsession\nIn&nbsp\;de
 r&nbsp\;Regel&nbsp\;wird&nbsp\;eine&nbsp\;Rhythmusgruppe\,&nbsp\;bestehend
 &nbsp\;aus&nbsp\;Instrumenten&nbsp\;wie&nbsp\;Klavier\,&nbsp\;Kontrabass&n
 bsp\;und&nbsp\;Schlagzeug\,&nbsp\;im&nbsp\;Voraus&nbsp\;zusammengestellt.&
 nbsp\;Die&nbsp\;Musiker&nbsp\;legen&nbsp\;das&nbsp\;Tempo&nbsp\;fest&nbsp\
 ;und&nbsp\;improvisieren&nbsp\;dann&nbsp\;über&nbsp\;die&nbsp\;vereinbarte
 n&nbsp\;Stücke.&nbsp\;Die&nbsp\;Interaktionen&nbsp\;und&nbsp\;die&nbsp\;Re
 ihenfolge&nbsp\;der&nbsp\;Soli&nbsp\;entwickeln&nbsp\;sich&nbsp\;spontan&n
 bsp\;während&nbsp\;der&nbsp\;Session.&nbsp\;\nInsgesamt&nbsp\;sind&nbsp\;J
 amsessions&nbsp\;ein&nbsp\;wichtiger&nbsp\;Bestandteil&nbsp\;der&nbsp\;mus
 ikalischen&nbsp\;Kultur\,&nbsp\;die&nbsp\;sowohl&nbsp\;Unterhaltung&nbsp\;
 bieten&nbsp\;als&nbsp\;auch&nbsp\;zur&nbsp\;künstlerischen&nbsp\;Entwicklu
 ng&nbsp\;der&nbsp\;Teilnehmer&nbsp\;beitragen.\n\nDas Repertoire ist bunt 
 und vielfältig: Kompositionen von Count Basie oder Miles Davis\, von den C
 rusaders oder Don Covay – jeder Titel bekommt in der JazzVitation-Bearbeit
 ung ein neues\, eigenständiges Gesicht. Saxophonist Jürgen Kill überzeugt 
 dabei mit seinem virtuosen Spiel\, seinem brillantem Ton\; Norbert Brenner
  – mal an der Gitarre\, mal am Keyboard – zieht das Ensemble mit stil- und
  harmoniesicherer Präzision durch die Songs\; Bassist Alfons Hardt\, ein a
 lter Hase an seinem Instrument\, sorgt für ein mehr als verlässliches musi
 kalisches Fundament und Schlagzeuger Heiko Thurm\, der verleiht dem Ganzen
  den ansteckenden Groove.\nDer Eintritt frei ist frei. um eine Spende wird
  gebeten.\nFoto: Veranstalter
DTSTART:20260603T200000Z
DTEND:20260603T220000Z
GEO:+50.205353;+6.420434
LOCATION:Orpheum Prüm 'Haus der Kultur / Rückseite'
ORGANIZER;CN=:mailto:info@jazzei.de
SEQUENCE:1
SUMMARY:Jamsession mit dem JazzVitation-Quartett im Orpheum Prüm
TRANSP:OPAQUE
URL:https://www.jazzei.de/termine/778-die-jazz-initiative-praesentiert-das-
 jazzvitation-quartett-im-jazzclub-2
END:VEVENT
END:VCALENDAR
