BEGIN:VCALENDAR
VERSION:2.0
PRODID:-//Jazz-Initiative Eifel e. V.//NONSGML kigkonsult.se iCalcreator 2.41.92//
CALSCALE:GREGORIAN
METHOD:PUBLISH
UID:36643537-3034-4063-b163-626466613066
X-WR-CALNAME:iCagenda
X-WR-CALDESC:Event Management Extension for Joomla!
X-WR-RELCALID:3E26604A-50F4-4449-8B3E-E4F4932D05B5
X-WR-TIMEZONE:UTC
BEGIN:VTIMEZONE
TZID:UTC
END:VTIMEZONE
BEGIN:VEVENT
UID:37323933-3162-4236-a334-333663626138
DTSTAMP:20260420T042029Z
CATEGORIES:Matinee
CLASS:PUBLIC
DESCRIPTION;ALTREP="CID:<FFFF__=0ABBE548DFE235B58f9e8a93d@coffeebean.com>":
 Ballett\, Kammermusik und Jazz bietet die Matinée im Schloss Weilerbach\nD
 as wird ein wunderbares und vielseitiges kulturelles Event! Das Programm d
 ieser Matinée wird vom Conservatoire du Nord gestaltet und verbindet Kamme
 rmusik\, Jazz-Standards und Tanz – mit einem besonderen Fokus auf „Spot on
  Dance“ und Ballettauszüge. Die Zusammenarbeit zwischen den talentierten S
 chülerinnen und Schülern der Tanzabteilung unter Maria Ana Real und den Mu
 siklehrern Moritz Reutlinger und Thomas Bracht verspricht ein abwechslungs
 reiches und inspirierendes Programm.\nIm ersten Teil wird getanzt\, 8 Tänz
 erinnen und Tänzer und 4 Musiker gestalten 6 Szenen mit Musik von&nbsp\; b
 ekannten Komponisten\, wie Brahms\, Prokofiew\, Piazzola. Moderation Adrie
 n Théato.\nIm zweiten Teil gibt es Jazzmusik. Ein Quintett von Nachwuchsmu
 sikern hat ein anspruchsvolles\, spannendes Programm vorbereitet.\nDiese M
 atinée findet statt am Sonntag\, 17. Mai von 1100 – 1230 Uhr im Festsaal d
 es Schlosses Weilerbach. Das Ticket kostet 14 Euro\, wer anschließend in d
 er Remise auch noch essen möchte (Buffet)\, zahlt 35\,00 Euro. Schüler und
  Studenten erhalten auf den Eintrittspreis einen Nachlass von 7\,00 Euro.
 \nKarten gibt es im Vorverkauf unter Fon 0170-5917300 und unter schloss.we
 ilerbach@bitburg-pruem.de.\nDie Matinee im Schloss&nbsp\; ist eine Gemeins
 chaftsveranstaltung der Jazz-Initiative Eifel und der Schloss-Weilerbach-G
 esellschaft.&nbsp\;\nFoto: Veranstalter
DTSTART:20260517T110000Z
DTEND:20260517T110000Z
GEO:00;0
LOCATION:Bollendorf\, Schloss Weilerbach
ORGANIZER:
SEQUENCE:1
SUMMARY:Ballett\, Kammermusik und Jazz bietet die Matinée im Schloss Weiler
 bach
TRANSP:OPAQUE
URL:https://www.jazzei.de/termine/779-ballett-kammermusik-und-jazz-bietet-d
 ie-matinee-im-schloss-weilerbach/2026-05-17-11-00
END:VEVENT
END:VCALENDAR
