BEGIN:VCALENDAR
VERSION:2.0
PRODID:-//Jazz-Initiative Eifel e. V.//NONSGML kigkonsult.se iCalcreator 2.41.92//
CALSCALE:GREGORIAN
METHOD:PUBLISH
UID:31613932-3034-4032-b362-623331363661
X-WR-CALNAME:iCagenda
X-WR-CALDESC:Event Management Extension for Joomla!
X-WR-RELCALID:3E26604A-50F4-4449-8B3E-E4F4932D05B5
X-WR-TIMEZONE:UTC
BEGIN:VTIMEZONE
TZID:UTC
END:VTIMEZONE
BEGIN:VEVENT
UID:35623632-3063-4865-b331-653864353866
DTSTAMP:20260423T152129Z
CATEGORIES:Allgemein
CLASS:PUBLIC
DESCRIPTION;ALTREP="CID:<FFFF__=0ABBE548DFE235B58f9e8a93d@coffeebean.com>":
 Das Vieira – Demuth – Simões Trio besteht aus Luisa Vieira\, die Flöte spi
 elt und singt\, Marc Demuth am Kontrabass und Paulo Simões an der Halb-Aku
 stikgitarre.\nIhr Repertoire vereint Jazz-Standards\, Bossa-Nova-Rhythmen 
 und kreative Arrangements von Pop-Songs\, wodurch ein lebendiges und eklek
 tisches musikalisches Erlebnis entsteht.\nLine-up:\n\nLuisa Vieira – Flöte
  und Gesang\nMarc Demuth – Kontrabass\nPaulo Simões – Halb-Akustikgitarre
 \n\nhttps://luisavieiramusic.com/about/\n\nMit finanzieller Unterstützung 
 des Restaurants JANE. Im Rahmen unserer Reihe „Jane’s Jazzy Dinners“.&nbsp
 \;Dieses Konzert wird von Live Music ASBL kuratiert.
DTSTART:20260426T200000Z
DTEND:20260426T220000Z
GEO:00;0
LOCATION:Restaurant Jane
ORGANIZER:
SEQUENCE:1
SUMMARY:Vieira – Demuth – Simões Trio
TRANSP:OPAQUE
URL:https://www.jazzei.de/termine/782-vieira-demuth-simoes-trio/2026-04-26-
 20-00
END:VEVENT
END:VCALENDAR
